BEGIN:VCALENDAR
VERSION:2.0
PRODID:-//wp-events-plugin.com//7.2.3.1//EN
TZID:America/Los_Angeles
X-WR-TIMEZONE:America/Los_Angeles
BEGIN:VEVENT
UID:3001264@anandaportland.org
DTSTART;TZID=America/Los_Angeles:20240807T190000
DTEND;TZID=America/Los_Angeles:20240807T203000
DTSTAMP:20240705T210046Z
URL:https://anandaportland.org/events/secrets-of-emotional-healing-with-sh
 anti-rubenstone-2024-08-06/
SUMMARY:Secrets of Emotional Healing with Shanti Rubenstone
DESCRIPTION:Shanti Rubenstone\, M.D. leads a monthly discussion about the S
 ecrets of Emotional Healing that Swami Kriyananda shared in his book of th
 e same name.
ATTACH;FMTTYPE=image/jpeg:https://anandaportland.org/wp-content/uploads/20
 19/04/Shanti-Rubenstone.jpeg
CATEGORIES:Classes
END:VEVENT
BEGIN:VTIMEZONE
TZID:America/Los_Angeles
X-LIC-LOCATION:America/Los_Angeles
BEGIN:DAYLIGHT
DTSTART:20240310T030000
TZOFFSETFROM:-0800
TZOFFSETTO:-0700
TZNAME:PDT
END:DAYLIGHT
END:VTIMEZONE
END:VCALENDAR