BEGIN:VCALENDAR
VERSION:2.0
PRODID:-//wp-events-plugin.com//7.2.3.1//EN
TZID:America/Los_Angeles
X-WR-TIMEZONE:America/Los_Angeles
BEGIN:VEVENT
UID:4002584@anandaportland.org
DTSTART;TZID=America/Los_Angeles:20250712T100000
DTEND;TZID=America/Los_Angeles:20250712T120000
DTSTAMP:20250619T003552Z
URL:https://anandaportland.org/events/senior-living-roadmap-with-belinda-g
 odin/
SUMMARY:Senior Living Roadmap with Belinda Godin
DESCRIPTION:\n\nAll are warmly invited to an informative and supportive con
 versation about planning for the future. As we grow older and our needs ev
 olve\, it’s important to understand the options available for senior liv
 ing—and how to prepare thoughtfully for the choices ahead.  A warm and 
 friendly speaker\, Belinda Godin is an expert advisor in the field of seni
 or living. There will be time for questions and a free light lunch will be
  served following the presentation in thE LJC.\n\nContact Nayaswami Hanuma
 n Baughman with any questions.  phone: 503-941-8323\n\nRegister below. Th
 is is a free event.\n\n\n\nBelinda Godin\nSenior Advisor\, Educator\, Spea
 ker\nServices are Always Free\nAging Stages Senior Services\n971.488.3280\
 n\nBelinda@AgingStagesSeniorServices.com\nAgingStagesSeniorServices.com
ATTACH;FMTTYPE=image/jpeg:https://anandaportland.org/wp-content/uploads/20
 25/05/roadmap-scaled.jpg
LOCATION:Ananda Community\, 7020 SW Vermont Court\, Portland\, Oregon\, 972
 23\, United States
X-APPLE-STRUCTURED-LOCATION;VALUE=URI;X-ADDRESS=7020 SW Vermont Court\, Por
 tland\, Oregon\, 97223\, United States;X-APPLE-RADIUS=100;X-TITLE=Ananda C
 ommunity:geo:0,0
END:VEVENT
BEGIN:VTIMEZONE
TZID:America/Los_Angeles
X-LIC-LOCATION:America/Los_Angeles
BEGIN:DAYLIGHT
DTSTART:20250309T030000
TZOFFSETFROM:-0800
TZOFFSETTO:-0700
TZNAME:PDT
END:DAYLIGHT
END:VTIMEZONE
END:VCALENDAR