BEGIN:VCALENDAR
VERSION:2.0
PRODID:-//wp-events-plugin.com//7.2.3.1//EN
TZID:America/Los_Angeles
X-WR-TIMEZONE:America/Los_Angeles
BEGIN:VEVENT
UID:3002485@anandaportland.org
DTSTART;TZID=America/Los_Angeles:20250226T190000
DTEND;TZID=America/Los_Angeles:20250226T203000
DTSTAMP:20250209T044342Z
URL:https://anandaportland.org/events/shiva-kirtan-at-community/
SUMMARY:Shiva Kirtan at Community
DESCRIPTION:Join Janice &amp\; Mic for an informal kirtan in the Living Joy
  Center Chapel celebrating Lord Shiva on this auspicious occasion of Maha 
 Shivaratri! \n \nShivaratri is an annual celebration where devotees offe
 r love and devotion to Shiva.  Shiva helps us release and purify the aspe
 cts of ourselves that no longer serve us\, allowing us to see Truth with c
 larity\, guiding us toward our highest path.\n \nWe'll chant many sanskri
 t chants to Shiva\, Ganesha\, and Divine Mother.  It will be an evening o
 f devotional fun!\n\nFREE  All are welcome.  Address:  7020 SW Vermont 
 Court
ATTACH;FMTTYPE=image/jpeg:https://anandaportland.org/wp-content/uploads/20
 23/02/Shiva-statue-cropped-scaled.jpg
LOCATION:Ananda Community\, 7020 SW Vermont Court\, Portland\, Oregon\, 972
 23\, United States
X-APPLE-STRUCTURED-LOCATION;VALUE=URI;X-ADDRESS=7020 SW Vermont Court\, Por
 tland\, Oregon\, 97223\, United States;X-APPLE-RADIUS=100;X-TITLE=Ananda C
 ommunity:geo:0,0
END:VEVENT
BEGIN:VTIMEZONE
TZID:America/Los_Angeles
X-LIC-LOCATION:America/Los_Angeles
BEGIN:STANDARD
DTSTART:20241103T010000
TZOFFSETFROM:-0700
TZOFFSETTO:-0800
TZNAME:PST
END:STANDARD
END:VTIMEZONE
END:VCALENDAR