BEGIN:VCALENDAR
VERSION:2.0
PRODID:-//wp-events-plugin.com//7.2.3.1//EN
TZID:America/Los_Angeles
X-WR-TIMEZONE:America/Los_Angeles
BEGIN:VEVENT
UID:3002481@anandaportland.org
DTSTART;TZID=America/Los_Angeles:20250620T170000
DTEND;TZID=America/Los_Angeles:20250620T190000
DTSTAMP:20250525T002748Z
URL:https://anandaportland.org/events/solstice-open-house-at-community/
SUMMARY:Solstice Open House at Ananda Community
DESCRIPTION:Explore Spiritual Community – Open House &amp\; Pizza NightFr
 iday\, June 20th | 5:00–7:00 PM\n\nCurious about living in spiritual com
 munity? Come enjoy a relaxed summer evening at Ananda Portland! Meet resid
 ents\, tour the community\, ask questions\, and share in vegetarian pizza 
 and meaningful conversation. All are welcome—whether you're just explori
 ng or already feeling called to a more connected way of life.\n\n7020 SW V
 ermont Court\, Portland\, 97223\n\nPark in any marked parking space. Parki
 ng also available on Vermont Street\n\n&nbsp\;\n\n
ATTACH;FMTTYPE=image/jpeg:https://anandaportland.org/wp-content/uploads/20
 24/04/Community-Sign-scaled.jpg
CATEGORIES:Community
END:VEVENT
BEGIN:VTIMEZONE
TZID:America/Los_Angeles
X-LIC-LOCATION:America/Los_Angeles
BEGIN:DAYLIGHT
DTSTART:20250309T030000
TZOFFSETFROM:-0800
TZOFFSETTO:-0700
TZNAME:PDT
END:DAYLIGHT
END:VTIMEZONE
END:VCALENDAR