BEGIN:VCALENDAR
VERSION:2.0
PRODID:-//wp-events-plugin.com//7.2.3.1//EN
TZID:America/Los_Angeles
X-WR-TIMEZONE:America/Los_Angeles
BEGIN:VEVENT
UID:6004940@anandaportland.org
DTSTART;TZID=America/Los_Angeles:20260606T070000
DTEND;TZID=America/Los_Angeles:20260606T123000
DTSTAMP:20260306T230939Z
URL:https://anandaportland.org/events/spiritual-community-half-day-retreat
 /
SUMMARY:Spiritual Community Half-Day Retreat
DESCRIPTION:Join us for a special half-day retreat celebrating the Ananda i
 deals of spiritual community and divine friendship!\n\nFeaturing special g
 uests Jyotish and Devi\, who will share and help guide this retreat\, we'l
 l start with Energization Exercises\, chanting and meditation\, and have t
 ime for breakfast together as well as some yoga practices and sharing on t
 he topic of spiritual community.\n\n\nTentative schedule:\n7-9am Sadhana: 
 Energization Exercises\, brief yoga practice\, chanting &amp\; meditation\
 n9-9:45 breakfast satsang: beginning in silence\, we'll enjoy breakfast go
 odies\, coffee &amp\; tea\, fresh fruit and satsang together\n9:45 chantin
 g &amp\; music: singing together to open the heart and uplift our consciou
 sness\n10-11:30 Spiritual Community with Jyotish &amp\; Devi: sharing insp
 iration\, questions &amp\; answers\n12-12:30 closing meditation and visual
 ization on global peace &amp\; harmony
END:VEVENT
BEGIN:VTIMEZONE
TZID:America/Los_Angeles
X-LIC-LOCATION:America/Los_Angeles
BEGIN:DAYLIGHT
DTSTART:20260308T030000
TZOFFSETFROM:-0800
TZOFFSETTO:-0700
TZNAME:PDT
END:DAYLIGHT
END:VTIMEZONE
END:VCALENDAR