BEGIN:VCALENDAR
VERSION:2.0
PRODID:-//wp-events-plugin.com//7.2.3.1//EN
TZID:America/Los_Angeles
X-WR-TIMEZONE:America/Los_Angeles
BEGIN:VEVENT
UID:3001432@anandaportland.org
DTSTART;TZID=America/Los_Angeles:20240629T103000
DTEND;TZID=America/Los_Angeles:20240629T120000
DTSTAMP:20240626T233226Z
URL:https://anandaportland.org/events/spiritual-renewal-online-morning-cla
 ss-2024-06-29/
SUMMARY:Spiritual Renewal online morning class
DESCRIPTION:Spiritual Renewal Week (SRW) is an annual event at the Ananda V
 illage in California. The week is filled with classes and events that are 
 shared with inspiration and joy.\n\nSRW 2024:  The Battle of Life and How
  to Fight It\n\nWatch and be part of the all the week's events by register
 ing online HERE.\n\n******************************************************
 *********************\n\nJoin others at the Portland Temple and watch the 
 morning classes on the monitor.\n\nRegister below to let us know you are c
 oming\, or just drop in.\n\nClass topics for the week: \n\nMonday:  The 
 Battlefield of Life with Jyotish and Devi\n\nTuesday: Attitudes to Win the
  Battle with a panel of speakers\n\nWednesday: Keeping Body and Mind Stron
 g with a panel of speakers\n\nThursday: * 11 AM class with Nayaswami Shant
 i and Jitendra.\n\nFriday:  10:30 AM  Spiritual Practices to Win the Bat
 tle with a panel of speakers\n\nSaturday: 10:30 AM  How I Fight the Battl
 e of Life with a panel of speakers\n\n&nbsp\;
ATTACH;FMTTYPE=image/jpeg:https://anandaportland.org/wp-content/uploads/20
 19/04/Friday-10-1024x683-1-e1505680382456.jpg
CATEGORIES:Classes
LOCATION:Ananda Temple in Beaverton\, 4855 SW Watson Avenue\, Beaverton\, O
 regon\, 97005\, United States
X-APPLE-STRUCTURED-LOCATION;VALUE=URI;X-ADDRESS=4855 SW Watson Avenue\, Bea
 verton\, Oregon\, 97005\, United States;X-APPLE-RADIUS=100;X-TITLE=Ananda 
 Temple in Beaverton:geo:0,0
END:VEVENT
BEGIN:VTIMEZONE
TZID:America/Los_Angeles
X-LIC-LOCATION:America/Los_Angeles
BEGIN:DAYLIGHT
DTSTART:20240310T030000
TZOFFSETFROM:-0800
TZOFFSETTO:-0700
TZNAME:PDT
END:DAYLIGHT
END:VTIMEZONE
END:VCALENDAR