BEGIN:VCALENDAR
VERSION:2.0
PRODID:-//wp-events-plugin.com//7.2.3.1//EN
TZID:America/Los_Angeles
X-WR-TIMEZONE:America/Los_Angeles
BEGIN:VEVENT
UID:3002479@anandaportland.org
DTSTART;TZID=America/Los_Angeles:20250509T190000
DTEND;TZID=America/Los_Angeles:20250509T203000
DTSTAMP:20250423T204922Z
URL:https://anandaportland.org/events/sri-yukteswar-birthday/
SUMMARY:Sri Yukteswar Birthday Celebration
DESCRIPTION:\n\nSwami Sri Yukteswar Giri was born on May 10\, 1855 in Seram
 pore\, India. Sri Yukteswar was the guru of Paramhansa Yogananda and autho
 r of "The Holy Science".\n\nTonight we celebrate his birth with chanting\,
  meditation\, sharing of stories and readings\, with a devotional flower c
 eremony. The great avatar of wisdom was the polestar in Yogananda's life\;
  their relationship of divine friendship and love an inspiration to us all
 .\n\nAll are welcome. This is a free event.\n\n&nbsp\;\n\n&nbsp\;
ATTACH;FMTTYPE=image/jpeg:https://anandaportland.org/wp-content/uploads/20
 19/04/Yukteswar-large-150x150.jpg
LOCATION:Ananda Temple in Beaverton\, 4855 SW Watson Avenue\, Beaverton\, O
 regon\, 97005\, United States
X-APPLE-STRUCTURED-LOCATION;VALUE=URI;X-ADDRESS=4855 SW Watson Avenue\, Bea
 verton\, Oregon\, 97005\, United States;X-APPLE-RADIUS=100;X-TITLE=Ananda 
 Temple in Beaverton:geo:0,0
END:VEVENT
BEGIN:VTIMEZONE
TZID:America/Los_Angeles
X-LIC-LOCATION:America/Los_Angeles
BEGIN:DAYLIGHT
DTSTART:20250309T030000
TZOFFSETFROM:-0800
TZOFFSETTO:-0700
TZNAME:PDT
END:DAYLIGHT
END:VTIMEZONE
END:VCALENDAR