BEGIN:VCALENDAR
VERSION:2.0
PRODID:-//wp-events-plugin.com//7.2.3.1//EN
TZID:America/Los_Angeles
X-WR-TIMEZONE:America/Los_Angeles
BEGIN:VEVENT
UID:3001555@anandaportland.org
DTSTART;TZID=America/Los_Angeles:20250105T100000
DTEND;TZID=America/Los_Angeles:20250105T113000
DTSTAMP:20241224T181522Z
URL:https://anandaportland.org/events/sunday-service-in-person-and-online-
 2025-01-05/
SUMMARY:Sunday Service - Paramhansa Yogananda's Birthday
DESCRIPTION:Each week for Sunday Service we get together\, in person and on
 line\, to share in the path of Self-Realization as brought by Paramhansa Y
 ogananda. These teachings are non-sectarian and all are welcome.
ATTACH;FMTTYPE=image/jpeg:https://anandaportland.org/wp-content/uploads/20
 22/01/Masters-Birthday.jpg
CATEGORIES:Devotional Event,Family Friendly,Guest Speakers,music,Service
 &amp; Satsangs
LOCATION:Ananda Temple in Beaverton\, 4855 SW Watson Avenue\, Beaverton\, O
 regon\, 97005\, United States
X-APPLE-STRUCTURED-LOCATION;VALUE=URI;X-ADDRESS=4855 SW Watson Avenue\, Bea
 verton\, Oregon\, 97005\, United States;X-APPLE-RADIUS=100;X-TITLE=Ananda 
 Temple in Beaverton:geo:0,0
END:VEVENT
BEGIN:VTIMEZONE
TZID:America/Los_Angeles
X-LIC-LOCATION:America/Los_Angeles
BEGIN:STANDARD
DTSTART:20241103T010000
TZOFFSETFROM:-0700
TZOFFSETTO:-0800
TZNAME:PST
END:STANDARD
END:VTIMEZONE
END:VCALENDAR