BEGIN:VCALENDAR
VERSION:2.0
PRODID:-//wp-events-plugin.com//7.2.3.1//EN
TZID:America/Los_Angeles
X-WR-TIMEZONE:America/Los_Angeles
BEGIN:VEVENT
UID:3000851@anandaportland.org
DTSTART;TZID=America/Los_Angeles:20240912T190000
DTEND;TZID=America/Los_Angeles:20240912T203000
DTSTAMP:20240727T041923Z
URL:https://anandaportland.org/events/swami-kriyananda-discipleship-annive
 rsary/
SUMMARY:Swami Kriyananda Discipleship Anniversary
DESCRIPTION:There will be music\, chanting and meditation\, some stories an
 d readings and sharing of discipleship and how that is unique for every so
 ul. We will read the discipleship vow. For those who are disciples\, this 
 is an opportunity to renew your vow with ever deepening commitment.
ATTACH;FMTTYPE=image/jpeg:https://anandaportland.org/wp-content/uploads/20
 22/08/Swami-gift.jpg
CATEGORIES:Devotional Event
LOCATION:Ananda Temple in Beaverton\, 4855 SW Watson Avenue\, Beaverton\, O
 regon\, 97005\, United States
X-APPLE-STRUCTURED-LOCATION;VALUE=URI;X-ADDRESS=4855 SW Watson Avenue\, Bea
 verton\, Oregon\, 97005\, United States;X-APPLE-RADIUS=100;X-TITLE=Ananda 
 Temple in Beaverton:geo:0,0
END:VEVENT
BEGIN:VTIMEZONE
TZID:America/Los_Angeles
X-LIC-LOCATION:America/Los_Angeles
BEGIN:DAYLIGHT
DTSTART:20240310T030000
TZOFFSETFROM:-0800
TZOFFSETTO:-0700
TZNAME:PDT
END:DAYLIGHT
END:VTIMEZONE
END:VCALENDAR