BEGIN:VCALENDAR
VERSION:2.0
PRODID:-//wp-events-plugin.com//7.2.3.1//EN
TZID:America/Los_Angeles
X-WR-TIMEZONE:America/Los_Angeles
BEGIN:VEVENT
UID:3001249@anandaportland.org
DTSTART;TZID=America/Los_Angeles:20240421T163000
DTEND;TZID=America/Los_Angeles:20240421T174500
DTSTAMP:20240402T203808Z
URL:https://anandaportland.org/events/swami-kriyananda-moksha-celebration/
SUMMARY:Swami Kriyananda Moksha Celebration
DESCRIPTION:Swami Kriyananda\, founder of Ananda\, left his body and obtain
 ed Moksha\, or divine freedom\, on April 21\, 2013.\n\nToday we celebrate
  the life of Swami Kriyananda and his spiritual freedom.\n\nJoin us at Sun
 day Service and a group meditation at the Ananda Portland Community.\n\nTh
 e meditation will be held at the community chapel 4:30 - 5:45 PM\, followe
 d by the community meal.
ATTACH;FMTTYPE=image/jpeg:https://anandaportland.org/wp-content/uploads/20
 19/04/swami-kriyananda2-150x150.jpg
LOCATION:Ananda Community\, 7020 SW Vermont Court\, Portland\, Oregon\, 972
 23\, United States
X-APPLE-STRUCTURED-LOCATION;VALUE=URI;X-ADDRESS=7020 SW Vermont Court\, Por
 tland\, Oregon\, 97223\, United States;X-APPLE-RADIUS=100;X-TITLE=Ananda C
 ommunity:geo:0,0
END:VEVENT
BEGIN:VTIMEZONE
TZID:America/Los_Angeles
X-LIC-LOCATION:America/Los_Angeles
BEGIN:DAYLIGHT
DTSTART:20240310T030000
TZOFFSETFROM:-0800
TZOFFSETTO:-0700
TZNAME:PDT
END:DAYLIGHT
END:VTIMEZONE
END:VCALENDAR