BEGIN:VCALENDAR
VERSION:2.0
PRODID:-//wp-events-plugin.com//7.2.3.1//EN
TZID:America/Los_Angeles
X-WR-TIMEZONE:America/Los_Angeles
BEGIN:VEVENT
UID:3001197@anandaportland.org
DTSTART;TZID=America/Los_Angeles:20240101T000000
DTEND;TZID=America/Los_Angeles:20240101T000000
DTSTAMP:20231215T162524Z
URL:https://anandaportland.org/events/temple-is-closed-for-inventory/
SUMMARY:Temple is Closed for inventory
DESCRIPTION:Happy New Year!  The temple is closed for inventory for a day.
 \n\nWe look forward to having you with us in 2024. Please call us if you h
 ave questions: 503-626-3403.  Email us at: portland@anandaportland.org\n
 \nMay your day be blessed\n\n&nbsp\;\n\n&nbsp\;\n\n&nbsp\;
ATTACH;FMTTYPE=image/jpeg:https://anandaportland.org/wp-content/uploads/20
 22/11/Closed-Sign.jpg
END:VEVENT
BEGIN:VTIMEZONE
TZID:America/Los_Angeles
X-LIC-LOCATION:America/Los_Angeles
BEGIN:STANDARD
DTSTART:20231105T010000
TZOFFSETFROM:-0700
TZOFFSETTO:-0800
TZNAME:PST
END:STANDARD
END:VTIMEZONE
END:VCALENDAR