BEGIN:VCALENDAR
VERSION:2.0
PRODID:-//wp-events-plugin.com//7.2.3.1//EN
TZID:America/Los_Angeles
X-WR-TIMEZONE:America/Los_Angeles
BEGIN:VEVENT
UID:3000849@anandaportland.org
DTSTART;TZID=America/Los_Angeles:20230917T120000
DTEND;TZID=America/Los_Angeles:20230917T130000
DTSTAMP:20230917T032120Z
URL:https://anandaportland.org/events/temple-open-financial-update-meeting
 /
SUMMARY:Temple Open Financial Update Meeting
DESCRIPTION:It's time for an update! We invite all who are interested to st
 ay after service and hear about the financial status of our temple and pla
 ns for the future. Bring your questions!
ATTACH;FMTTYPE=image/jpeg:https://anandaportland.org/wp-content/uploads/20
 21/12/Temple-Sign-2.jpg
LOCATION:Ananda Temple in Beaverton\, 4855 SW Watson Avenue\, Beaverton\, O
 regon\, 97005\, United States
X-APPLE-STRUCTURED-LOCATION;VALUE=URI;X-ADDRESS=4855 SW Watson Avenue\, Bea
 verton\, Oregon\, 97005\, United States;X-APPLE-RADIUS=100;X-TITLE=Ananda 
 Temple in Beaverton:geo:0,0
END:VEVENT
BEGIN:VTIMEZONE
TZID:America/Los_Angeles
X-LIC-LOCATION:America/Los_Angeles
BEGIN:DAYLIGHT
DTSTART:20230312T030000
TZOFFSETFROM:-0800
TZOFFSETTO:-0700
TZNAME:PDT
END:DAYLIGHT
END:VTIMEZONE
END:VCALENDAR