BEGIN:VCALENDAR
VERSION:2.0
PRODID:-//wp-events-plugin.com//7.2.3.1//EN
TZID:America/Los_Angeles
X-WR-TIMEZONE:America/Los_Angeles
BEGIN:VEVENT
UID:3001222@anandaportland.org
DTSTART;TZID=America/Los_Angeles:20250405T100000
DTEND;TZID=America/Los_Angeles:20250405T120000
DTSTAMP:20250207T013637Z
URL:https://anandaportland.org/events/temple-seva-day/
SUMMARY:Temple Seva Day
DESCRIPTION:Let's beautify and clean and uplift our beloved temple for spri
 ng!\n\nAll are welcome to join us for this morning of friendship and servi
 ce. There will be indoor and outdoor activities for all levels of abilitie
 s.\n\nSnacks will be provided.\n\nPlease let us know if you plan to come f
 or any or all of the time. It helps us to plan.\n\nCall Melissa 503-626-34
 03.\n\n&nbsp\;\n\n&nbsp\;\n\n&nbsp\;
ATTACH;FMTTYPE=image/jpeg:https://anandaportland.org/wp-content/uploads/20
 21/03/lotuswindow-scaled.jpg
CATEGORIES:Family Friendly,Service &amp; Satsangs
LOCATION:Ananda Temple in Beaverton\, 4855 SW Watson Avenue\, Beaverton\, O
 regon\, 97005\, United States
X-APPLE-STRUCTURED-LOCATION;VALUE=URI;X-ADDRESS=4855 SW Watson Avenue\, Bea
 verton\, Oregon\, 97005\, United States;X-APPLE-RADIUS=100;X-TITLE=Ananda 
 Temple in Beaverton:geo:0,0
END:VEVENT
BEGIN:VTIMEZONE
TZID:America/Los_Angeles
X-LIC-LOCATION:America/Los_Angeles
BEGIN:DAYLIGHT
DTSTART:20250309T030000
TZOFFSETFROM:-0800
TZOFFSETTO:-0700
TZNAME:PDT
END:DAYLIGHT
END:VTIMEZONE
END:VCALENDAR