BEGIN:VCALENDAR
VERSION:2.0
PRODID:-//wp-events-plugin.com//7.2.3.1//EN
TZID:America/Los_Angeles
X-WR-TIMEZONE:America/Los_Angeles
BEGIN:VEVENT
UID:3001236@anandaportland.org
DTSTART;TZID=America/Los_Angeles:20240521T180000
DTEND;TZID=America/Los_Angeles:20240521T203000
DTSTAMP:20240430T200103Z
URL:https://anandaportland.org/events/the-art-and-science-of-raja-yoga-spr
 ing-2024-2024-05-21/
SUMMARY:The Art and Science of Raja Yoga\, Spring 2024
DESCRIPTION:This course is a comprehensive exploration of the ancient scien
 ce of yoga philosophy and the practices that can lead to the discovery of 
 our highest Self potential.\n\nThe Art and Science of Raja Yoga gives us 
 the balanced\, comprehensive approach of raja yoga\, which is also known
  as the “royal” yoga. The course is organized around seven topics – 
 Philosophy\, Meditation\, Postures\, Breathing\, Routines\, Healing\, and 
 Diet. It also includes in-depth discussions of the paths of karma\, bhakt
 i\, and gyana yoga.\n\nThe text is written by Swami Kriyananda\, a direc
 t disciple of the great master\, Paramhansa Yogananda\, who brought yoga t
 o the West.\n\nDivided into 14 chapters or steps\, the topics are:\n\n 	St
 ep 1: The History of Yoga\n 	Step 2: The Paths of Yoga\n 	Step 3: The Eigh
 t Stages of Self-Realization\n 	Step 4: Yama\n 	Step 5: Niyama\n 	Step 6: 
 Duality\n 	Step 7: Affirmations\, Part 1\n 	Step 8: Affirmations\, Part 2\
 n 	Step 9: Energy and Energization\n 	Step 10: Magnetism\n 	Step 11: The N
 eed for a Guru\n 	Step 12: The Anatomy of Yoga\, Part 1\n 	Step 13: The An
 atomy of Yoga\, Part 2\n 	Step 14: The Yogic Scheme of Life\n\nEach class 
 will include yoga postures\, energization exercises\, chanting\, meditatio
 n\, discussion\, practice of pranayams\, snacks and satsang (fellowship) w
 ith truth seekers. Together we will explore the deepest teachings of the E
 ast and the eternal truths of our spiritual nature.\n\n&nbsp\;\n\nThe sche
 dule will be 12 weekly classes on Tuesdays\, with 2 Saturday workshops tha
 t are yet to be scheduled.\n\nCost: $395 / $550 for couples\, plus the tex
 tbook. Payment plans are available.\n\nReturning students pay $150\n\nInst
 ructors include members of the Ananda Portland ministry team and teachers 
 who are disciples of Paramhansa Yogananda with many years of personal yogi
 c practice.\n\nPlease pre-register and pay the full price\, or pay the dep
 osit and talk to us about a payment plan.  Contact us with any questions.
  \n\n&nbsp\;
ATTACH;FMTTYPE=image/jpeg:https://anandaportland.org/wp-content/uploads/20
 22/11/Art_Science_Raja_Yoga_400.jpg
CATEGORIES:Classes,workshop,Yoga
LOCATION:Ananda Temple in Beaverton\, 4855 SW Watson Avenue\, Beaverton\, O
 regon\, 97005\, United States
X-APPLE-STRUCTURED-LOCATION;VALUE=URI;X-ADDRESS=4855 SW Watson Avenue\, Bea
 verton\, Oregon\, 97005\, United States;X-APPLE-RADIUS=100;X-TITLE=Ananda 
 Temple in Beaverton:geo:0,0
END:VEVENT
BEGIN:VTIMEZONE
TZID:America/Los_Angeles
X-LIC-LOCATION:America/Los_Angeles
BEGIN:DAYLIGHT
DTSTART:20240310T030000
TZOFFSETFROM:-0800
TZOFFSETTO:-0700
TZNAME:PDT
END:DAYLIGHT
END:VTIMEZONE
END:VCALENDAR