BEGIN:VCALENDAR
VERSION:2.0
PRODID:-//wp-events-plugin.com//7.2.3.1//EN
TZID:America/Los_Angeles
X-WR-TIMEZONE:America/Los_Angeles
BEGIN:VEVENT
UID:3000855@anandaportland.org
DTSTART;TZID=America/Los_Angeles;VALUE=DATE:20240425
DTEND;TZID=America/Los_Angeles;VALUE=DATE:20240430
DTSTAMP:20230917T040308Z
URL:https://anandaportland.org/events/visit-from-nayaswamis-jyotish-and-de
 vi/
SUMMARY:Visit from Nayaswamis Jyotish and Devi
DESCRIPTION:Nayaswamis Jyotish and Devi\, Spiritual Directors of Ananda Wor
 ldwide\, are great devotees who spent many years under the guidance of Swa
 mi Kriyananda\, a direct disciple of Paramhansa Yogananda and founder of A
 nanda. They now lead the movement of Ananda across the world and are divin
 e friends to thousands of disciples and truth seekers who follow this path
  of Self-Realization.\n\nSave these dates to spend time with these wonderf
 ul souls. More information will be added as the plans for this visit come 
 together.
ATTACH;FMTTYPE=image/jpeg:https://anandaportland.org/wp-content/uploads/20
 16/05/JD_Pronam-768x512.jpg
LOCATION:Ananda Temple in Beaverton\, 4855 SW Watson Avenue\, Beaverton\, O
 regon\, 97005\, United States
X-APPLE-STRUCTURED-LOCATION;VALUE=URI;X-ADDRESS=4855 SW Watson Avenue\, Bea
 verton\, Oregon\, 97005\, United States;X-APPLE-RADIUS=100;X-TITLE=Ananda 
 Temple in Beaverton:geo:0,0
END:VEVENT
BEGIN:VTIMEZONE
TZID:America/Los_Angeles
X-LIC-LOCATION:America/Los_Angeles
BEGIN:DAYLIGHT
DTSTART:20240310T030000
TZOFFSETFROM:-0800
TZOFFSETTO:-0700
TZNAME:PDT
END:DAYLIGHT
END:VTIMEZONE
END:VCALENDAR