BEGIN:VCALENDAR
VERSION:2.0
PRODID:-//wp-events-plugin.com//7.2.3.1//EN
TZID:America/Los_Angeles
X-WR-TIMEZONE:America/Los_Angeles
BEGIN:VEVENT
UID:3002038@anandaportland.org
DTSTART;TZID=America/Los_Angeles:20250322T100000
DTEND;TZID=America/Los_Angeles:20250322T120000
DTSTAMP:20250306T175652Z
URL:https://anandaportland.org/events/weekend-with-nayaswami-pranaba-and-n
 ayaswami-parvati/
SUMMARY:Say YES to Life!  With Nayaswami Pranaba and Nayaswami Parvati
DESCRIPTION:\n\nThis weekend we have the joy of welcoming guests from Anand
 a Village\, Nayaswami Pranaba and Nayaswami Parvati. Pranaba and Parvati a
 re former Ananda Portland leaders and have spent decades practicing the te
 achings of Paramhansa Yogananda.\n\nFounding members of Ananda\, who were 
 trained by Swami Kriyananda\, Pranaba and Parvati have a wealth of experie
 nce to share. They helped to start the centers in Seattle\, Palo Alto\, Da
 llas\, Assisi\, and Portland.\n\nNayaswami Parvati is the author of "Say Y
 es to Life! Spiritual Adventure and Discipleship in the Building of Ananda
 ."\n\nPranaba will be speaking on spiritual adventure and how Yogananda's 
 timeless teachings\, as well as the example of Swami Kriyananda\, show us 
 how to live in these challenging times of change and uncertainty.
ATTACH;FMTTYPE=image/jpeg:https://anandaportland.org/wp-content/uploads/20
 20/09/Pranaba-and-Parvati.jpg
CATEGORIES:Classes,Guest Speakers
LOCATION:Ananda Portland Temple\, 4855 SW Watson Ave\, Beaverton\, OR\, 970
 05\, United States
X-APPLE-STRUCTURED-LOCATION;VALUE=URI;X-ADDRESS=4855 SW Watson Ave\, Beaver
 ton\, OR\, 97005\, United States;X-APPLE-RADIUS=100;X-TITLE=Ananda Portlan
 d Temple:geo:0,0
END:VEVENT
BEGIN:VTIMEZONE
TZID:America/Los_Angeles
X-LIC-LOCATION:America/Los_Angeles
BEGIN:DAYLIGHT
DTSTART:20250309T030000
TZOFFSETFROM:-0800
TZOFFSETTO:-0700
TZNAME:PDT
END:DAYLIGHT
END:VTIMEZONE
END:VCALENDAR