BEGIN:VCALENDAR
VERSION:2.0
PRODID:-//wp-events-plugin.com//7.2.3.1//EN
TZID:America/Los_Angeles
X-WR-TIMEZONE:America/Los_Angeles
BEGIN:VEVENT
UID:3002492@anandaportland.org
DTSTART;TZID=America/Los_Angeles;VALUE=DATE:20250425
DTEND;TZID=America/Los_Angeles;VALUE=DATE:20250428
DTSTAMP:20250310T224844Z
URL:https://anandaportland.org/events/womens-retreat/
SUMMARY:Spring Women's Retreat
DESCRIPTION:Gather with Ananda sisters of the PNW for a weekend of rejuvena
 tion and spiritual friendship. This special weekend will feature a session
  of Gita’s signature Yoga with Horses to open the heart as well as guide
 d Ananda yoga\, meditation\, and time for relaxation together.\n\nCome med
 itate\, nourish\, explore\, seva\, and laugh together!\n\nThe horse excurs
 ion of the weekend is a discipline called Equine Assisted Learning that is
  designed for all ages and abilities\, no riding is involved. Gita will gu
 ide you through interactions with horses from the ground that bring meanin
 gful insights and spiritual support.\n\nOverview of the Weekend\n\nFriday\
 , April 25th\n\n 	Afternoon: Carpool from the Ananda Community in Beaverto
 n\, OR\n 	Check-in at 4pm\n 	Cook &amp\; dinner together\n 	Evening openin
 g circle\, kirtan &amp\; sadhana\n\nSaturday\, April 26th\n\n 	Morning sad
 hana\n 	Breakfast &amp\; pack sack lunches\n 	Day-long workshop with horse
 s to open the heart at Madison Grove Farm Sanctuary in Ethel\, WA (carpool
  to/from 1hr each way)\n 	Evening meal\, activities\, guided sadhana\n\nSu
 nday\, April 27th\n\n 	Morning sadhana\n 	Breakfast\n 	Closing circle (dep
 art 10am)\n\n[gallery size="medium" ids="16560257\,16560258\,16560259\,165
 60260\,16560261\,16560263\,16560265\,16560266\,16560267"]
ATTACH;FMTTYPE=image/jpeg:https://anandaportland.org/wp-content/uploads/20
 25/02/PXL_20240901_185254353-scaled.jpg
CATEGORIES:Retreat
END:VEVENT
BEGIN:VTIMEZONE
TZID:America/Los_Angeles
X-LIC-LOCATION:America/Los_Angeles
BEGIN:DAYLIGHT
DTSTART:20250309T030000
TZOFFSETFROM:-0800
TZOFFSETTO:-0700
TZNAME:PDT
END:DAYLIGHT
END:VTIMEZONE
END:VCALENDAR