BEGIN:VCALENDAR
VERSION:2.0
PRODID:-//wp-events-plugin.com//7.2.3.1//EN
TZID:America/Los_Angeles
X-WR-TIMEZONE:America/Los_Angeles
BEGIN:VEVENT
UID:3000976@anandaportland.org
DTSTART;TZID=America/Los_Angeles:20231202T100000
DTEND;TZID=America/Los_Angeles:20231202T120000
DTSTAMP:20231127T203944Z
URL:https://anandaportland.org/events/workshop-with-brahmachari-sagar/
SUMMARY:God is Joy: Laughter and Humor on the Spiritual Path\, with Brahmac
 hari Sagar
DESCRIPTION:“A tiny bubble of laughter\, I\nam become the Sea of Mirth It
 self.”\n--from the great mystical poem Samadhi by Paramhansa Yoganand
 a\n&nbsp\;\nGod is joy\, or as Paramhansa  Yogananda himself often explai
 ned: God is ever-existing\, ever-conscious\, ever-new bliss. This ever-new
  joy or bliss of the soul is one of the great gifts of an authentic spirit
 ual life and\, surprising to some\, often finds expression in laughter and
  a wonderful sense of humor. Yogananda himself and his disciple Swami Kriy
 ananda\, along with many saints throughout history\, beautifully shared th
 eir version of this joyful\, playful sense of humor and bliss.\nIn this sp
 irit of childlike humor and joy\, join Brahmachari Sagar for a special w
 orkshop exploring the playful\, blissful nature of the spiritual life toge
 ther. With his own characteristic wisdom and wit\, Sagar will share the de
 pthless teachings of Paramhansa Yogananda and Swami Kriyananda on this sub
 ject\, and help to apply them to the personal\, spiritual path and the wor
 ld today.  Don’t miss this opportunity to dive into joy and humor\, enr
 ich your spiritual life\, and share a few laughs together!\n**************
 *****************************************************\n\nBrahmachari Sagar
  resides in the Ananda Monastery at Ananda Village\, California. Sagar ser
 ved Ananda’s work in India for seven years and currently teaches online 
 and in-person classes on a variety of topics including meditation\, karma 
 and reincarnation\, the yogic teachings of Jesus\, and more.\n\nBorn into 
 a family of Kriya Yogis\, Sagar read the Autobiography of a Yogi at the 
 young age of seven and has ever since been an avid student of Paramhansa Y
 ogananda’s teachings. Sagar is joyful\, highly creative\, and has a deli
 ghtfully spontaneous sense of humor and enthusiasm for life that includes 
 all those around him.\n\nSee Sagar give a Sunday talk at Ananda Village he
 re: https://www.ananda.org/video/many-are-the-pathways-to-truth-with-brahm
 achari-sagar/\n\nPreregister and pay sliding scale admission below.
ATTACH;FMTTYPE=image/jpeg:https://anandaportland.org/wp-content/uploads/20
 20/03/Sagar.png
CATEGORIES:Classes,Service &amp; Satsangs,workshop
LOCATION:Ananda Temple and Teaching Center\, 4855 SW Watson Ave\, Beaverton
 \, OR\, 97005\, United States
X-APPLE-STRUCTURED-LOCATION;VALUE=URI;X-ADDRESS=4855 SW Watson Ave\, Beaver
 ton\, OR\, 97005\, United States;X-APPLE-RADIUS=100;X-TITLE=Ananda Temple 
 and Teaching Center:geo:0,0
END:VEVENT
BEGIN:VTIMEZONE
TZID:America/Los_Angeles
X-LIC-LOCATION:America/Los_Angeles
BEGIN:STANDARD
DTSTART:20231105T010000
TZOFFSETFROM:-0700
TZOFFSETTO:-0800
TZNAME:PST
END:STANDARD
END:VTIMEZONE
END:VCALENDAR