BEGIN:VCALENDAR
VERSION:2.0
PRODID:-//wp-events-plugin.com//7.2.3.1//EN
TZID:America/Los_Angeles
X-WR-TIMEZONE:America/Los_Angeles
BEGIN:VEVENT
UID:6004837@anandaportland.org
DTSTART;TZID=America/Los_Angeles:20260620T100000
DTEND;TZID=America/Los_Angeles:20260620T120000
DTSTAMP:20260123T190824Z
URL:https://anandaportland.org/events/yoga-fest-at-temple-2/
SUMMARY:Yoga Fest at Temple
DESCRIPTION:\n\n\n\n\n\n\n\n\n\n\nThe International Day of Yoga and the Sum
 mer Solstice fall on June 21st!\n\nThe Ananda Temple is hosting a Yoga Fes
 t to celebrate. \n🗓 Saturday\, June 20\, 10 AM - 12 PM📍 Ananda Temp
 le\, Portland\nCelebrate the light of the longest day with joy\, energy\, 
 and inner connection at our Summer Solstice Yoga Fest! Sample the full spe
 ctrum of what Ananda has to offer in one inspiring morning:\n✨ Uplifting
  yoga classes🎶 Heart-opening kirtan🧘‍♀️ Guided meditation &amp
 \; relaxation\n*    Power of Mantra\n🍓 Healthy\, delicious snacks🌸
  Community\, connection &amp\; inspiration\nWhether you're brand new to An
 anda or a longtime friend\, this is a perfect time to come together\, try 
 something new\, and celebrate the spiritual light within.\nFree &amp\; ope
 n to all—bring a friend!\n
ATTACH;FMTTYPE=image/jpeg:https://anandaportland.org/wp-content/uploads/20
 18/07/Sunflower_2_Large.png
LOCATION:Ananda Temple in Beaverton\, 4855 SW Watson Avenue\, Beaverton\, O
 regon\, 97005\, United States
X-APPLE-STRUCTURED-LOCATION;VALUE=URI;X-ADDRESS=4855 SW Watson Avenue\, Bea
 verton\, Oregon\, 97005\, United States;X-APPLE-RADIUS=100;X-TITLE=Ananda 
 Temple in Beaverton:geo:0,0
END:VEVENT
BEGIN:VTIMEZONE
TZID:America/Los_Angeles
X-LIC-LOCATION:America/Los_Angeles
BEGIN:DAYLIGHT
DTSTART:20260308T030000
TZOFFSETFROM:-0800
TZOFFSETTO:-0700
TZNAME:PDT
END:DAYLIGHT
END:VTIMEZONE
END:VCALENDAR