BEGIN:VCALENDAR
VERSION:2.0
PRODID:-//wp-events-plugin.com//7.2.3.1//EN
TZID:America/Los_Angeles
X-WR-TIMEZONE:America/Los_Angeles
BEGIN:VEVENT
UID:3002482@anandaportland.org
DTSTART;TZID=America/Los_Angeles:20250621T100000
DTEND;TZID=America/Los_Angeles:20250621T120000
DTSTAMP:20250619T003842Z
URL:https://anandaportland.org/events/yoga-fest-at-temple/
SUMMARY:Yoga Fest at Temple
DESCRIPTION:\nThe International Day of Yoga and the Summer Solstice fall on
  June 21st!\n\nThe Ananda Temple is hosting a Yoga Fest to celebrate. \n
 🗓 Friday\, June 21\, 10 AM - 12 PM📍 Ananda Temple\, Portland\nCelebr
 ate the light of the longest day with joy\, energy\, and inner connection 
 at our Summer Solstice Yoga Fest! Sample the full spectrum of what Ananda 
 has to offer in one inspiring morning:\n✨ Uplifting yoga classes🎶 Hea
 rt-opening kirtan🧘‍♀️ Guided meditation &amp\; relaxation\n*   
  Power of Mantra\n🍓 Healthy\, delicious snacks🌸 Community\, connecti
 on &amp\; inspiration\nWhether you're brand new to Ananda or a longtime fr
 iend\, this is a perfect time to come together\, try something new\, and c
 elebrate the spiritual light within.\nFree &amp\; open to all—bring a fr
 iend!\nAll who come\, will be entered into the drawing to win a free Vedic
  Astrology Reading with Fedor!
ATTACH;FMTTYPE=image/jpeg:https://anandaportland.org/wp-content/uploads/20
 25/02/Yoga-Fest.png
LOCATION:Ananda Temple in Beaverton\, 4855 SW Watson Avenue\, Beaverton\, O
 regon\, 97005\, United States
X-APPLE-STRUCTURED-LOCATION;VALUE=URI;X-ADDRESS=4855 SW Watson Avenue\, Bea
 verton\, Oregon\, 97005\, United States;X-APPLE-RADIUS=100;X-TITLE=Ananda 
 Temple in Beaverton:geo:0,0
END:VEVENT
BEGIN:VTIMEZONE
TZID:America/Los_Angeles
X-LIC-LOCATION:America/Los_Angeles
BEGIN:DAYLIGHT
DTSTART:20250309T030000
TZOFFSETFROM:-0800
TZOFFSETTO:-0700
TZNAME:PDT
END:DAYLIGHT
END:VTIMEZONE
END:VCALENDAR