BEGIN:VCALENDAR
VERSION:2.0
PRODID:-//wp-events-plugin.com//7.2.3.1//EN
TZID:America/Los_Angeles
X-WR-TIMEZONE:America/Los_Angeles
BEGIN:VEVENT
UID:6004947@anandaportland.org
DTSTART;TZID=America/Los_Angeles:20260421T190000
DTEND;TZID=America/Los_Angeles:20260421T203000
DTSTAMP:20260325T220829Z
URL:https://anandaportland.org/events/yoga-in-daily-life-series-renew-your
 -meditation-2026-04-21/
SUMMARY:Yoga in Daily Life: The Bible\, Jesus and Easter for Yogis
DESCRIPTION:This Tuesday evening series of classes will present many aspect
 s of living the yogic life every day.\n\nThe teachings of yoga\, and speci
 fically\, the teachings of Paramhansa Yogananda\, are practical and applic
 able to every part of our lives. We will offer a variety of topics from yo
 ga philosophy and explore how we can deepen our understanding\, our practi
 ces and our spiritual growth through yoga.\n\nApril Classes:\n\nWe will di
 scuss some Bible basics\, resources and how to dive into reading the Bible
  with the understanding given by Yogananda and Swami Kriyananda.  Most of
  the discussion will center around the Easter season\, Palm Sunday\, Easte
 r week\, the resurrection of Jesus and how to draw on these events to enri
 ch our spiritual understanding and growth toward Self-Realization.\n\nThe 
 three classes will be interwoven\, but if you can't come to all three clas
 ses\, you are welcome to any.\n\nLed by Lorna \n\n&nbsp\;\n\nCost: $15 pe
 r class or $40 for the first 3 classes of the month.\n\nThe 4th Tuesday is
  FREE
ATTACH;FMTTYPE=image/jpeg:https://anandaportland.org/wp-content/uploads/20
 23/01/gregolsenjesus.jpg
CATEGORIES:Classes,Meditation
LOCATION:Ananda Portland Temple\, 4855 SW Watson Ave\, Beaverton\, OR\, 970
 05\, United States
X-APPLE-STRUCTURED-LOCATION;VALUE=URI;X-ADDRESS=4855 SW Watson Ave\, Beaver
 ton\, OR\, 97005\, United States;X-APPLE-RADIUS=100;X-TITLE=Ananda Portlan
 d Temple:geo:0,0
END:VEVENT
BEGIN:VTIMEZONE
TZID:America/Los_Angeles
X-LIC-LOCATION:America/Los_Angeles
BEGIN:DAYLIGHT
DTSTART:20260308T030000
TZOFFSETFROM:-0800
TZOFFSETTO:-0700
TZNAME:PDT
END:DAYLIGHT
END:VTIMEZONE
END:VCALENDAR